BEGIN:VCALENDAR
VERSION:2.0
PRODID:-//Autism Innovation Lab - ECPv6.15.20//NONSGML v1.0//EN
CALSCALE:GREGORIAN
METHOD:PUBLISH
X-WR-CALNAME:Autism Innovation Lab
X-ORIGINAL-URL:https://autisminnovationlab.com
X-WR-CALDESC:Events for Autism Innovation Lab
REFRESH-INTERVAL;VALUE=DURATION:PT1H
X-Robots-Tag:noindex
X-PUBLISHED-TTL:PT1H
BEGIN:VTIMEZONE
TZID:UTC
BEGIN:STANDARD
TZOFFSETFROM:+0000
TZOFFSETTO:+0000
TZNAME:UTC
DTSTART:20250101T000000
END:STANDARD
END:VTIMEZONE
BEGIN:VEVENT
DTSTART;TZID=UTC:20260508T000000
DTEND;TZID=UTC:20260511T235959
DTSTAMP:20260420T092959
CREATED:20251202T235556Z
LAST-MODIFIED:20251203T010532Z
UID:3534-1778198400-1778543999@autisminnovationlab.com
SUMMARY:INSAR Annual Meeting
DESCRIPTION:Located in Seattle\, USA \n\n\n\nType of Event: Conference \n\n\n\nLargest autism research conference globally.
URL:https://autisminnovationlab.com/event/example-event/
END:VEVENT
BEGIN:VEVENT
DTSTART;TZID=UTC:20260915T000000
DTEND;TZID=UTC:20260915T235959
DTSTAMP:20260420T092959
CREATED:20251203T010833Z
LAST-MODIFIED:20251203T010837Z
UID:3545-1789430400-1789516799@autisminnovationlab.com
SUMMARY:The Kelsey Housing Forum
DESCRIPTION:National inclusive housing innovation event. \n\n\n\nLocated in: San Fransisco\, USA \n\n\n\nEvent Type: Forum
URL:https://autisminnovationlab.com/event/the-kelsey-housing-forum/
END:VEVENT
END:VCALENDAR